BEGIN:VCALENDAR
VERSION:2.0
PRODID:-//IMSACPS - ECPv6.15.20//NONSGML v1.0//EN
CALSCALE:GREGORIAN
METHOD:PUBLISH
X-WR-CALNAME:IMSACPS
X-ORIGINAL-URL:https://imsacps.ca
X-WR-CALDESC:Events for IMSACPS
REFRESH-INTERVAL;VALUE=DURATION:PT1H
X-Robots-Tag:noindex
X-PUBLISHED-TTL:PT1H
BEGIN:VTIMEZONE
TZID:America/Edmonton
BEGIN:DAYLIGHT
TZOFFSETFROM:-0700
TZOFFSETTO:-0600
TZNAME:MDT
DTSTART:20220313T090000
END:DAYLIGHT
BEGIN:STANDARD
TZOFFSETFROM:-0600
TZOFFSETTO:-0700
TZNAME:MST
DTSTART:20221106T080000
END:STANDARD
BEGIN:DAYLIGHT
TZOFFSETFROM:-0700
TZOFFSETTO:-0600
TZNAME:MDT
DTSTART:20230312T090000
END:DAYLIGHT
BEGIN:STANDARD
TZOFFSETFROM:-0600
TZOFFSETTO:-0700
TZNAME:MST
DTSTART:20231105T080000
END:STANDARD
BEGIN:DAYLIGHT
TZOFFSETFROM:-0700
TZOFFSETTO:-0600
TZNAME:MDT
DTSTART:20240310T090000
END:DAYLIGHT
BEGIN:STANDARD
TZOFFSETFROM:-0600
TZOFFSETTO:-0700
TZNAME:MST
DTSTART:20241103T080000
END:STANDARD
BEGIN:DAYLIGHT
TZOFFSETFROM:-0700
TZOFFSETTO:-0600
TZNAME:MDT
DTSTART:20250309T090000
END:DAYLIGHT
BEGIN:STANDARD
TZOFFSETFROM:-0600
TZOFFSETTO:-0700
TZNAME:MST
DTSTART:20251102T080000
END:STANDARD
BEGIN:DAYLIGHT
TZOFFSETFROM:-0700
TZOFFSETTO:-0600
TZNAME:MDT
DTSTART:20260308T090000
END:DAYLIGHT
BEGIN:STANDARD
TZOFFSETFROM:-0600
TZOFFSETTO:-0700
TZNAME:MST
DTSTART:20261101T080000
END:STANDARD
BEGIN:DAYLIGHT
TZOFFSETFROM:-0700
TZOFFSETTO:-0600
TZNAME:MDT
DTSTART:20270314T090000
END:DAYLIGHT
BEGIN:STANDARD
TZOFFSETFROM:-0600
TZOFFSETTO:-0700
TZNAME:MST
DTSTART:20271107T080000
END:STANDARD
END:VTIMEZONE
BEGIN:VEVENT
DTSTART;VALUE=DATE:20260420
DTEND;VALUE=DATE:20260424
DTSTAMP:20260422T161704
CREATED:20251023T051504Z
LAST-MODIFIED:20251117T045617Z
UID:2867-1776643200-1776988799@imsacps.ca
SUMMARY:Annual Conference and Trade Show
DESCRIPTION:2026 IMSA Canadian Prairie Section Annual Conference and Trade Show\nApril  20-23\, 2026\nSaskatoon\, Saskatchewan \nSheraton Cavalier Saskatoon Hotel\n612 Spadina Crescent East
URL:https://imsacps.ca/event/annual-conference-and-trade-show/
LOCATION:Sheraton Cavalier Saskatoon Hotel\, 612 Spadina Crescent East\, Saskatoon\, SK\, S7K 3G9\, Canada
CATEGORIES:Conference
END:VEVENT
BEGIN:VEVENT
DTSTART;VALUE=DATE:20260420
DTEND;VALUE=DATE:20260422
DTSTAMP:20260422T161704
CREATED:20240303T081447Z
LAST-MODIFIED:20260411T212352Z
UID:2445-1776643200-1776815999@imsacps.ca
SUMMARY:IMSA Traffic Signal Field Technician Level 2 Certification Course
DESCRIPTION:April 20 – 21\, 2026\n8:30AM to 4:00PM (Local Time)
URL:https://imsacps.ca/event/imsa-traffic-signal-field-technician-level-2-certification-course/
LOCATION:Sheraton Cavalier Saskatoon Hotel\, 612 Spadina Crescent East\, Saskatoon\, SK\, S7K 3G9\, Canada
CATEGORIES:Certification
END:VEVENT
BEGIN:VEVENT
DTSTART;VALUE=DATE:20260420
DTEND;VALUE=DATE:20260422
DTSTAMP:20260422T161704
CREATED:20240202T045749Z
LAST-MODIFIED:20260411T212301Z
UID:2379-1776643200-1776815999@imsacps.ca
SUMMARY:IMSA Work Zone Temporary Traffic Control Technician Certification Course
DESCRIPTION:April 20 – 21\, 2026\n8:30AM to 4:00PM (Local Time) \n  \n 
URL:https://imsacps.ca/event/imsa-work-zone-temporary-traffic-control-technician-certification-course/
LOCATION:Sheraton Cavalier Saskatoon Hotel\, 612 Spadina Crescent East\, Saskatoon\, SK\, S7K 3G9\, Canada
CATEGORIES:Certification
END:VEVENT
BEGIN:VEVENT
DTSTART;VALUE=DATE:20260309
DTEND;VALUE=DATE:20260311
DTSTAMP:20260422T161704
CREATED:20260119T052445Z
LAST-MODIFIED:20260119T053050Z
UID:2954-1773014400-1773187199@imsacps.ca
SUMMARY:IMSA Traffic Signal Field Technician Level 2 Certification (March)
DESCRIPTION:March 9-10\, 2026\n8:30AM – 4:30PM (Local Time) \nCourtyard by Marriott Edmonton West\n10011 184 Street NW\nEdmonton\, AB \nRegister now through Eventbrite. \nRegistration deadline is Sunday\, February 22\, 2026 or when class is full.
URL:https://imsacps.ca/event/imsa-traffic-signal-field-technician-level-2-certification-march/
LOCATION:Courtyard by Marriott Edmonton West\, 10011 184 Street NW\, Edmonton\, Alberta\, T5S 0C7\, Canada
CATEGORIES:Certification
END:VEVENT
BEGIN:VEVENT
DTSTART;VALUE=DATE:20260305
DTEND;VALUE=DATE:20260307
DTSTAMP:20260422T161704
CREATED:20260119T052035Z
LAST-MODIFIED:20260119T053116Z
UID:2952-1772668800-1772841599@imsacps.ca
SUMMARY:IMSA Traffic Signal Technician Level 1 Certification (March)
DESCRIPTION:March 5-6\, 2026\n8:30AM – 4:30PM (Local Time) \nCourtyard by Marriott Edmonton West\n10011 184 Street NW\nEdmonton\, AB \nRegister now through Eventbrite. \nRegistration deadline is Sunday\, February 22\, 2026 or when class is full.
URL:https://imsacps.ca/event/imsa-traffic-signal-technician-level-1-certification-march/
LOCATION:Courtyard by Marriott Edmonton West\, 10011 184 Street NW\, Edmonton\, Alberta\, T5S 0C7\, Canada
CATEGORIES:Certification
END:VEVENT
BEGIN:VEVENT
DTSTART;VALUE=DATE:20260303
DTEND;VALUE=DATE:20260305
DTSTAMP:20260422T161704
CREATED:20260119T051702Z
LAST-MODIFIED:20260119T053143Z
UID:2947-1772496000-1772668799@imsacps.ca
SUMMARY:IMSA Work Zone Temporary Traffic Control Technician Certification Course (March)
DESCRIPTION:March 3-4\, 2026\n8:30AM – 4:30PM (Local Time) \nCourtyard by Marriott Edmonton West\n10011 184 Street NW\nEdmonton\, AB \nRegister now through Eventbrite. \nRegistration deadline is Sunday\, February 22\, 2026 or when class is full.
URL:https://imsacps.ca/event/imsa-work-zone-temporary-traffic-control-technician-certification-course-march/
LOCATION:Courtyard by Marriott Edmonton West\, 10011 184 Street NW\, Edmonton\, Alberta\, T5S 0C7\, Canada
CATEGORIES:Certification
END:VEVENT
BEGIN:VEVENT
DTSTART;VALUE=DATE:20251203
DTEND;VALUE=DATE:20251205
DTSTAMP:20260422T161704
CREATED:20240202T045757Z
LAST-MODIFIED:20251023T044652Z
UID:2383-1764720000-1764892799@imsacps.ca
SUMMARY:IMSA Traffic Signal Technician Level 1 Certification Course
DESCRIPTION:Wednesday\, December 3 to Thursday\, December 4\, 2025\n8:30AM to 4:00PM MST \nClick here to register.
URL:https://imsacps.ca/event/imsa-traffic-signal-technician-level-1-certification-course/
LOCATION:Sheraton Cavalier Calgary Hotel\, 2620 – 32 Avenue NE\, Calgary\, AB\, Canada
CATEGORIES:Certification
END:VEVENT
BEGIN:VEVENT
DTSTART;VALUE=DATE:20250407
DTEND;VALUE=DATE:20250411
DTSTAMP:20260422T161704
CREATED:20240121T073303Z
LAST-MODIFIED:20250116T052833Z
UID:1929-1743984000-1744329599@imsacps.ca
SUMMARY:2025 Annual Conference and Trade Show
DESCRIPTION:IMSA Canadian Prairie Section Annual Conference and Trade Show\nMonday\, April 7 to Thursday\, April 10\, 2025\nConference Hotel\nDelta Hotels Edmonton South Conference Centre\n4404 Gateway Boulevard NW\nEdmonton\, AB  T6H 5C2 \nDelegate Registration Pricing \nExhibitor Registration Pricing
URL:https://imsacps.ca/event/2025-annual-conference-and-trade-show/
LOCATION:Delta Hotels Edmonton South Conference Centre\, 4404 Gateway Boulevard NW\, Edmonton\, AB\, Canada
CATEGORIES:Conference
END:VEVENT
BEGIN:VEVENT
DTSTART;VALUE=DATE:20250312
DTEND;VALUE=DATE:20250314
DTSTAMP:20260422T161704
CREATED:20231118T164006Z
LAST-MODIFIED:20250307T155310Z
UID:2300-1741737600-1741910399@imsacps.ca
SUMMARY:IMSA Signs & Markings Level 1 Certification Course
DESCRIPTION:Wednesday\, March 12 to Thursday\, March 13\, 2025\n8:30AM to 4:00PM MST \n 
URL:https://imsacps.ca/event/signs-markings-level-1/
LOCATION:Royal Hotel West Edmonton\, Trademark Collection by Wyndham\, 10010 – 178 Street NW\, Edmonton\, AB\, Canada
CATEGORIES:Certification
END:VEVENT
BEGIN:VEVENT
DTSTART;TZID=America/Edmonton:20231206T080000
DTEND;TZID=America/Edmonton:20231207T160000
DTSTAMP:20260422T161705
CREATED:20231118T163905Z
LAST-MODIFIED:20240122T071700Z
UID:2298-1701849600-1701964800@imsacps.ca
SUMMARY:Traffic Signals Technician Level I
DESCRIPTION:Course will be offered online and available for new certification or auditing for 16 hours of renewal credit. \nPlease register through the IMSA International’s website at Canadian Prairie Section Online Certification Registration \nYou will need an IMSA account to register and attend the courses. If you do not have one already\, please create one. To find your account or to create a new one\, use this link: Find My IMSA ID \nIf you have any questions in regards to taking online courses\, please refer to this information: Online Certification Programs \nOr contact our Section’s certification chair at certification.cps@gmail.com for more information. \nRegistration closes November 27\, 2023. \nNote: Renew any expired certificates by the end of this year. This grace period will end on December 31\, 2023. Starting in 2024\, renewing expired certificates over 1 year will require writing the exams. Visit the Certification Renewal website from IMSA International for more information.
URL:https://imsacps.ca/event/traffic-signals-technician-level-i/
LOCATION:Alberta
END:VEVENT
BEGIN:VEVENT
DTSTART;TZID=America/Edmonton:20231204T080000
DTEND;TZID=America/Edmonton:20231205T160000
DTSTAMP:20260422T161705
CREATED:20231118T163703Z
LAST-MODIFIED:20240122T071711Z
UID:2296-1701676800-1701792000@imsacps.ca
SUMMARY:Work Zone Temporary Traffic Control Technician
DESCRIPTION:Course will be offered online and available for new certification or auditing for 16 hours of renewal credit. \nPlease register through the IMSA International’s website at Canadian Prairie Section Online Certification Registration \nYou will need an IMSA account to register and attend the courses. If you do not have one already\, please create one. To find your account or to create a new one\, use this link: Find My IMSA ID \nIf you have any questions in regards to taking online courses\, please refer to this information: Online Certification Programs \nOr contact our Section’s certification chair at certification.cps@gmail.com for more information. \nRegistration closes November 27\, 2023. \nNote: Renew any expired certificates by the end of this year. This grace period will end on December 31\, 2023. Starting in 2024\, renewing expired certificates over 1 year will require writing the exams. Visit the Certification Renewal website from IMSA International for more information.
URL:https://imsacps.ca/event/work-zone-temporary-traffic-control-technician/
LOCATION:Alberta
END:VEVENT
END:VCALENDAR